BEGIN:VCALENDAR
VERSION:2.0
PRODID:-//Boston Press Photographers Association - ECPv6.15.17.1//NONSGML v1.0//EN
CALSCALE:GREGORIAN
METHOD:PUBLISH
X-WR-CALNAME:Boston Press Photographers Association
X-ORIGINAL-URL:https://www.bppa.net
X-WR-CALDESC:Events for Boston Press Photographers Association
REFRESH-INTERVAL;VALUE=DURATION:PT1H
X-Robots-Tag:noindex
X-PUBLISHED-TTL:PT1H
BEGIN:VTIMEZONE
TZID:America/New_York
BEGIN:DAYLIGHT
TZOFFSETFROM:-0500
TZOFFSETTO:-0400
TZNAME:EDT
DTSTART:20150308T070000
END:DAYLIGHT
BEGIN:STANDARD
TZOFFSETFROM:-0400
TZOFFSETTO:-0500
TZNAME:EST
DTSTART:20151101T060000
END:STANDARD
BEGIN:DAYLIGHT
TZOFFSETFROM:-0500
TZOFFSETTO:-0400
TZNAME:EDT
DTSTART:20160313T070000
END:DAYLIGHT
BEGIN:STANDARD
TZOFFSETFROM:-0400
TZOFFSETTO:-0500
TZNAME:EST
DTSTART:20161106T060000
END:STANDARD
BEGIN:DAYLIGHT
TZOFFSETFROM:-0500
TZOFFSETTO:-0400
TZNAME:EDT
DTSTART:20170312T070000
END:DAYLIGHT
BEGIN:STANDARD
TZOFFSETFROM:-0400
TZOFFSETTO:-0500
TZNAME:EST
DTSTART:20171105T060000
END:STANDARD
BEGIN:DAYLIGHT
TZOFFSETFROM:-0500
TZOFFSETTO:-0400
TZNAME:EDT
DTSTART:20180311T070000
END:DAYLIGHT
BEGIN:STANDARD
TZOFFSETFROM:-0400
TZOFFSETTO:-0500
TZNAME:EST
DTSTART:20181104T060000
END:STANDARD
BEGIN:DAYLIGHT
TZOFFSETFROM:-0500
TZOFFSETTO:-0400
TZNAME:EDT
DTSTART:20190310T070000
END:DAYLIGHT
BEGIN:STANDARD
TZOFFSETFROM:-0400
TZOFFSETTO:-0500
TZNAME:EST
DTSTART:20191103T060000
END:STANDARD
BEGIN:DAYLIGHT
TZOFFSETFROM:-0500
TZOFFSETTO:-0400
TZNAME:EDT
DTSTART:20200308T070000
END:DAYLIGHT
BEGIN:STANDARD
TZOFFSETFROM:-0400
TZOFFSETTO:-0500
TZNAME:EST
DTSTART:20201101T060000
END:STANDARD
BEGIN:DAYLIGHT
TZOFFSETFROM:-0500
TZOFFSETTO:-0400
TZNAME:EDT
DTSTART:20210314T070000
END:DAYLIGHT
BEGIN:STANDARD
TZOFFSETFROM:-0400
TZOFFSETTO:-0500
TZNAME:EST
DTSTART:20211107T060000
END:STANDARD
BEGIN:DAYLIGHT
TZOFFSETFROM:-0500
TZOFFSETTO:-0400
TZNAME:EDT
DTSTART:20220313T070000
END:DAYLIGHT
BEGIN:STANDARD
TZOFFSETFROM:-0400
TZOFFSETTO:-0500
TZNAME:EST
DTSTART:20221106T060000
END:STANDARD
BEGIN:DAYLIGHT
TZOFFSETFROM:-0500
TZOFFSETTO:-0400
TZNAME:EDT
DTSTART:20230312T070000
END:DAYLIGHT
BEGIN:STANDARD
TZOFFSETFROM:-0400
TZOFFSETTO:-0500
TZNAME:EST
DTSTART:20231105T060000
END:STANDARD
BEGIN:DAYLIGHT
TZOFFSETFROM:-0500
TZOFFSETTO:-0400
TZNAME:EDT
DTSTART:20240310T070000
END:DAYLIGHT
BEGIN:STANDARD
TZOFFSETFROM:-0400
TZOFFSETTO:-0500
TZNAME:EST
DTSTART:20241103T060000
END:STANDARD
END:VTIMEZONE
BEGIN:VEVENT
DTSTART;TZID=America/New_York:20231213T180000
DTEND;TZID=America/New_York:20231213T213000
DTSTAMP:20260420T215743
CREATED:20231108T003531Z
LAST-MODIFIED:20231108T003531Z
UID:24502-1702490400-1702503000@www.bppa.net
SUMMARY:2023 BPPA Holiday Party
DESCRIPTION:WHO: The BPPA  \nWHAT: is hosting its annual hoilday party \nWHEN: on Wednesday\, December 13\, 2023 at 6pm  \nWHERE: at Madre Osteria – 88 Wharf Street Milton\, MA 02186 \nWHY: Because it will be fun to gather! \nTickets: $30.00 (use the form below or this link to buy tickets) \nTickets include: light fare\, oysters & raffle prizes throughout the night \nThis event is not limited to BPPA members; anyone may attend. \n 
URL:https://www.bppa.net/event/2023-bppa-holiday-party/
LOCATION:Madre Osteria & Bar Milton Landing\, 88 Wharf Street\, Milton\, MA\, 02186\, United States
CATEGORIES:Parties and Gatherings
END:VEVENT
BEGIN:VEVENT
DTSTART;TZID=America/New_York:20230518T180000
DTEND;TZID=America/New_York:20230518T200000
DTSTAMP:20260420T215743
CREATED:20230508T095643Z
LAST-MODIFIED:20230508T095643Z
UID:24460-1684432800-1684440000@www.bppa.net
SUMMARY:BPPA outdoor exhibit opening
DESCRIPTION:Please join us on May 18th from 6-8 at the Boston Common exhibition location near Park Street Station as we gather to celebrate the winners and hand out our annual books.  \nThe third annual Boston Press Photographers Association Exhibit showcasing the winning work from our 2022 Pictures of the Year contest. The exhibition will take place from May 14th – 28th on Boston Common near Park Street station and May 29th – June 12th at Jamaica Pond.
URL:https://www.bppa.net/event/bppa-outdoor-exhibit-opening/
LOCATION:Boston Common near Park Street station\, Tremont St & Park Street &\, Winter St\, Boston\, MA\, 02108\, United States
CATEGORIES:Exhibitions,Parties and Gatherings
END:VEVENT
BEGIN:VEVENT
DTSTART;TZID=America/New_York:20230223T183000
DTEND;TZID=America/New_York:20230223T210000
DTSTAMP:20260420T215743
CREATED:20230217T154303Z
LAST-MODIFIED:20230217T154303Z
UID:24005-1677177000-1677186000@www.bppa.net
SUMMARY:Meet the Judges
DESCRIPTION:It’s been a while since we’ve gotten to hold one of our Meet the Judges events with contest judging happening over Zoom over the past couple of years. But since we’re back to in-person judging this year\, we’ll have a social gathering on Thurs.\, Feb. 23\, 2023\, at 6:30pm at the Sam Adams Downtown Boston Taproom. We hope you can make it! It’s a great time to socialize with others in the BPPA and talk about the contest\, or not! \nAddress: 60 State St\, Boston\, MA 02109
URL:https://www.bppa.net/event/meet-the-judges-3/
LOCATION:Sam Adams Downtown Taproom\, 60 State St.\, Boston\, MA\, 02109\, United States
CATEGORIES:Parties and Gatherings
END:VEVENT
BEGIN:VEVENT
DTSTART;TZID=America/New_York:20210610T150000
DTEND;TZID=America/New_York:20210610T190000
DTSTAMP:20260420T215743
CREATED:20210603T125057Z
LAST-MODIFIED:20210603T125123Z
UID:22922-1623337200-1623351600@www.bppa.net
SUMMARY:Digitizing Your Film Archive – Applying New Technology by Digital Silver Imaging
DESCRIPTION:ASMP New England\, in cooperation with the Boston Press Photographers Association\, is happy to announce a special\, live\, in-person\, and onsite program about new and repurposed technology to create high resolution scans from film. \nDigitizing Your Archive and using Capture One Software \nOn Thursday\, June 10\, Digital Silver Imaging will debut and demonstrate its On Site Image Preservation Service™ in their newly outfitted van at the Griffin Museum of Photography in Winchester\, MA. DSI owner\, Eric Luden\, and Image Archive Specialist\, Scott Nidermaier\, will be on hand to showcase the equipment. The van is equipped with a state-of-the-art image capture system\, including the use of a medium format camera back\, that in seconds can digitize your film\, with drum scanner quality\, at a fraction of the drum scanner price. Digital Silver imaging is offering to digitize a single 35mm or 120 transparency\, or negative (Color or B&W) FREE during the event\, so don’t forget to bring your film (mounted or unmounted\, negatives in strips or singles – all are fine). \nThe event runs from 4:00 – 8:00 pm. There will be on-going demonstrations of the digitization process\, discussions of best practices for Capture One software\, and what to do after your files are converted. DSI will also discuss archive storage solutions\, and printing. \nThe Griffin Museum will remain open for extended hours for all attendees during the event. The Leica Store Boston will also be on hand with a selection of new and notable equipment. \n\nOutdoor event at the Griffin Museum of Photography\nPresentation on the digitization system and utilizing Capture One Software on a large monitor display outside of van\nFree 35mm or 120 digital capture for each photographer – will be done onsite\nArchive storage solutions and discussion\nTurning your archive into new opportunities\nDiscussion on printing\nSpecial pricing to be offered for all attendees on Digitization and Printing\nLight refreshments will be served.
URL:https://www.bppa.net/event/digitizing-your-film-archive-applying-new-technology-by-digital-silver-imaging/
LOCATION:Griffin Museum of Photography\, 67 Shore Rd\, Winchester\, MA\, 01890\, United States
CATEGORIES:Parties and Gatherings,Talks and Discussions,Workshops
ATTACH;FMTTYPE=image/jpeg:https://www.bppa.net/wp-content/uploads/2021/06/Image-Preservation-Van.jpg
END:VEVENT
BEGIN:VEVENT
DTSTART;TZID=America/New_York:20200220T190000
DTEND;TZID=America/New_York:20200220T210000
DTSTAMP:20260420T215743
CREATED:20200212T194724Z
LAST-MODIFIED:20200212T194724Z
UID:8306-1582225200-1582232400@www.bppa.net
SUMMARY:Meet the Judges
DESCRIPTION:The Meet the Judges event will be at La Fabrica in Cambridge’s Central Square at 7pm on Thursday\, Feb. 20. Join the BPPA after the PoY judging has finished for a social gathering with judges Elsa Garrison\, Abel Uribe\, and Matt McClain. Talk about the contest results\, or not!
URL:https://www.bppa.net/event/meet-the-judges-2/
LOCATION:La Fabrica\, 450 Massachusetts Ave\, Cambridge\, MA\, 02139\, United States
CATEGORIES:Parties and Gatherings
END:VEVENT
BEGIN:VEVENT
DTSTART;TZID=America/New_York:20200113T190000
DTEND;TZID=America/New_York:20200113T220000
DTSTAMP:20260420T215743
CREATED:20191226T185345Z
LAST-MODIFIED:20191226T185743Z
UID:6860-1578942000-1578952800@www.bppa.net
SUMMARY:BPPA Gathering at Yellow Door Taqueria
DESCRIPTION:Please join us for a BPPA social gathering at the Yellow Door Taqueria in Dorchester on January 13\, 2020\, from 7pm-10pm. Come enjoy some tacos and bring any questions you may have about entering this year’s contest.  \nPlease RSVP with this google form. \nHope to see you there! \nWhere: Yellow Door Taqueria 2297 Dorchester Ave\, Boston\, MA 02124 \nWhen: January 13\, 2020 from 7pm-10pm \nAdmission is free\, and food and drink will be available for purchase from the restaurant.
URL:https://www.bppa.net/event/bppa-gathering-yellow-door-taqueria/
LOCATION:Yellow Door Taqueria\, 2297 Dorchester Ave\, Boston\, MA\, 02124\, United States
CATEGORIES:Parties and Gatherings
END:VEVENT
BEGIN:VEVENT
DTSTART;TZID=America/New_York:20191211T183000
DTEND;TZID=America/New_York:20191211T210000
DTSTAMP:20260420T215743
CREATED:20191205T133808Z
LAST-MODIFIED:20191205T133824Z
UID:6233-1576089000-1576098000@www.bppa.net
SUMMARY:2019 BPPA Holiday party
DESCRIPTION:Join the Boston Press Photographers Association for our annual holiday party at JJ Foley’s Cafe at 117 E Berkeley St\, Boston\, MA 02118\, on Dec. 11\, 2019. There will be food\, a cash bar\, and plenty of conversation.  Doors open at 6:30p and food will be served at 7pm.  \nTickets are $20 online or $22 at the door\, and the meal is included. Use the “Add to Cart” button below to purchase tickets with a credit card or paypal account. When you click through the button\, select the quantity of tickets you would like to purchase and then follow the rest of the steps to complete the purchase.  \n\n\n\n\n\n\nSee you there!\n \n  \n\n 
URL:https://www.bppa.net/event/2019-bppa-holiday-party/
LOCATION:JJ Foley’s Cafe\, 117 E Berkeley St\, Boston\, MA\, 02118\, United States
CATEGORIES:Parties and Gatherings
END:VEVENT
BEGIN:VEVENT
DTSTART;TZID=America/New_York:20190510T190000
DTEND;TZID=America/New_York:20190510T220000
DTSTAMP:20260420T215743
CREATED:20190319T163057Z
LAST-MODIFIED:20190430T122212Z
UID:5800-1557514800-1557525600@www.bppa.net
SUMMARY:BPPA Awards Dinner
DESCRIPTION:The Boston Press Photographers Association Board of Directors invite you to join us for a celebration honoring our contest winners at our annual dinner. Tickets are now available. \nWe will meet for light fare and drinks at District Hall in Boston’s Seaport on Fri.\, May 10\, 2019\, from 7 to 10pm at District Hall at 75 Northern Avenue\, Boston\, MA 02210.  \nAs with last year\, ticket prices will change as we get closer to the date. If you buy before April 29\, 2019\, the tickets are $35/person. Starting April 30\, the tickets are $55/person. Students are eligible for special pricing at any time of $30/student.  \nPurchase tickets using the PayPal buttons below. You do not need a PayPal account in order to buy tickets. Use the button below “Student” for the student rate; all others should use the button on the left. After clicking the button\, please indicate the number of tickets you would like to purchase and complete the transaction.  \n\n\n\n\n       \nFull price – $35 $55\n\n\n\n\n\n\n\n    \n\n\n\n       \nStudent – $30\n\n\n\n\n\n\n\n    \n\n\n \n \nBuffet dinner (included with ticket) starts at 7pm.  \nCash bar available throughout the event.  \nParking can be difficult in the area\, so please plan accordingly.
URL:https://www.bppa.net/event/bppa-awards-dinner-2/
LOCATION:District Hall\, 75 Northern Ave.\, Boston\, MA\, 02210\, United States
CATEGORIES:Parties and Gatherings
END:VEVENT
BEGIN:VEVENT
DTSTART;TZID=America/New_York:20190221T190000
DTEND;TZID=America/New_York:20190221T210000
DTSTAMP:20260420T215743
CREATED:20190218T162627Z
LAST-MODIFIED:20190218T162627Z
UID:5285-1550775600-1550782800@www.bppa.net
SUMMARY:Meet the Judges - Dinner and Drinks
DESCRIPTION:Once again this year\, we’re having an informal get-together after the 2018 Pictures of the Year judging is done. It’s your chance to meet the judges: Lauren Steel\, David Goldman\, and Robert Deutsch.  \nWe’re gathering at The Independent at 75 Union Square in Somerville\, MA at 7pm on Thursday\, Feb. 16. Attendance is free\, but you’ll have to pay for your own food and drinks. This event is always a great time to get together with other photographers in the area and congratulate the contest’s winners. Hope to see you there!
URL:https://www.bppa.net/event/meet-judges-dinner-drinks/
LOCATION:The Independent\, 75 Union Square\, Somerville\, MA\, 02143\, United States
CATEGORIES:Parties and Gatherings
END:VEVENT
BEGIN:VEVENT
DTSTART;TZID=America/New_York:20190129T193000
DTEND;TZID=America/New_York:20190129T213000
DTSTAMP:20260420T215743
CREATED:20190127T201959Z
LAST-MODIFIED:20190127T202453Z
UID:5248-1548790200-1548797400@www.bppa.net
SUMMARY:Tri-Card pick-up at La Fabrica
DESCRIPTION:Good news – the new 2019-2023 News Photographer ID Cards (also known as Tri-cards) are ready to be picked up. Come to La Fabrica at 450 Mass. Ave.\, Cambridge\, MA 02139 at 7:30pm on Jan. 29\, 2019 to pick them up\, have a drink\, and visit with your fellow BPPA members. Note that the cards will be delivered separately to the TV networks\, but everyone is still welcome for a get together. \nWe really encourage everyone to stop by to pick up their ID\, but if you can’t make it we will make arrangements to get it to you.
URL:https://www.bppa.net/event/tri-card-pick-la-fabrica/
LOCATION:La Fabrica\, 450 Massachusetts Ave\, Cambridge\, MA\, 02139\, United States
CATEGORIES:Parties and Gatherings
END:VEVENT
BEGIN:VEVENT
DTSTART;TZID=America/New_York:20181205T183000
DTEND;TZID=America/New_York:20181205T233000
DTSTAMP:20260420T215743
CREATED:20181120T202104Z
LAST-MODIFIED:20181120T202104Z
UID:5217-1544034600-1544052600@www.bppa.net
SUMMARY:2018 BPPA Holiday Party
DESCRIPTION:Join the Boston Press Photographers Association for our annual holiday party at JJ Foley’s Cafe at 117 E Berkeley St\, Boston\, MA 02118. There will be food\, a cash bar\, and plenty of conversation.  \nTickets are $20 online or $22 at the door\, and the meal is included. Use the “Add to Cart” button below to purchase tickets with a credit card or paypal account. When you click through the button\, select the quantity of tickets you would like to purchase and then follow the rest of the steps to complete the purchase.  \n\n\n\n\n\n\nSee you there!\n \n  \n\n 
URL:https://www.bppa.net/event/2018-bppa-holiday-party/
LOCATION:JJ Foley’s Cafe\, 117 E Berkeley St\, Boston\, MA\, 02118\, United States
CATEGORIES:Parties and Gatherings
END:VEVENT
BEGIN:VEVENT
DTSTART;TZID=America/New_York:20180915T140000
DTEND;TZID=America/New_York:20180915T170000
DTSTAMP:20260420T215743
CREATED:20180910T133528Z
LAST-MODIFIED:20180910T134018Z
UID:5160-1537020000-1537030800@www.bppa.net
SUMMARY:Hunt's presents 2017 Pictures of the Year Opening Reception and Exhibition
DESCRIPTION:Hunt’s Photo & Video will be hosting a reception and showing of the First place winners in the 2017 BPPA Annual contest at their gallery at 100 Main Street in Melrose from 2pm to 5pm. The images will remain on display for 2 weeks. \nThis reception is also open to the public so spread the word.
URL:https://www.bppa.net/event/hunts-presents-2017-pictures-year-opening-reception-exhibition/
LOCATION:Hunt’s Photo & Video\, 100 Main St\, Melrose\, MA\, 02176\, United States
CATEGORIES:Exhibitions,Parties and Gatherings,Talks and Discussions
END:VEVENT
BEGIN:VEVENT
DTSTART;TZID=America/New_York:20180512T180000
DTEND;TZID=America/New_York:20180512T220000
DTSTAMP:20260420T215743
CREATED:20180409T170729Z
LAST-MODIFIED:20180508T105735Z
UID:5025-1526148000-1526162400@www.bppa.net
SUMMARY:BPPA Annual Awards Dinner
DESCRIPTION:The Boston Press Photographers’ Association Annual Awards Dinner will be held on May 12\, 2018\, at Villa Victoria Center for the Arts. This is a new venue for the event\, so please make sure you’re headed to the right place.  \nWe’ll gather together to celebrate the winners of the 2017 Pictures of the Year contest and College Contest. \nIn another change from previous years\, ticket prices will change as we get closer to the date. If you buy before Monday\, May 7\, 2018\, the tickets are $35/person. Starting May 8\, the tickets are $55/person. Students are eligible for special pricing at any time of $30/student.  \nPurchase tickets using the PayPal buttons below. You do not need a PayPal account in order to buy tickets. Use the button below “Student” for the student rate; all others should use the button on the left. After clicking the button\, please indicate the number of tickets you would like to purchase and complete the transaction.  \n\n\n\n\n       \nFull price – $55\n\n\n\n\n\n\n\n    \n\n\n\n       \nStudent – $30\n\n\n\n\n\n\n\n    \n\n\n \n \nAll tickets include the buffet dinner and one drink (beer\, wine\, or soda only).  \nCocktail hour with cash bar starts at 6pm.  \nBuffet dinner (included with ticket) starts at 7pm.  \nCash bar available throughout the event.  \nParking can be difficult in the area\, so please plan accordingly.
URL:https://www.bppa.net/event/bppa-annual-awards-dinner/
LOCATION:Villa Victoria Center for the Arts\, 85 W Newton St.\, Boston\, MA\, 02118\, United States
CATEGORIES:Parties and Gatherings
END:VEVENT
BEGIN:VEVENT
DTSTART;TZID=America/New_York:20180327T183000
DTEND;TZID=America/New_York:20180327T210000
DTSTAMP:20260420T215743
CREATED:20180315T193704Z
LAST-MODIFIED:20180316T150431Z
UID:4988-1522175400-1522184400@www.bppa.net
SUMMARY:Pitchers & Shots social gathering
DESCRIPTION:The BPPA is gathering for a social evening of food and drinks. Please join us and get to know other photographers in the area. We’ve held similar events over the past few years and it’s always a good opportunity to mingle with colleagues outside of a press riser. Hope to see you there.  \nWe’d like to get an idea of how many people will be attending\, so please fill out this form.  \nHere’s the facebook event page\, too.
URL:https://www.bppa.net/event/pitchers-and-shots-2/
LOCATION:New Oasis Brazilian Restaurant\, 373 Main St.\, Medford\, MA\, 02155\, United States
CATEGORIES:Parties and Gatherings
END:VEVENT
BEGIN:VEVENT
DTSTART;TZID=America/New_York:20180126T190000
DTEND;TZID=America/New_York:20180126T220000
DTSTAMP:20260420T215743
CREATED:20180125T171606Z
LAST-MODIFIED:20180125T172958Z
UID:4403-1516993200-1517004000@www.bppa.net
SUMMARY:Meet the Judges - Dinner and Drinks
DESCRIPTION:Once again this year\, we’re having an informal get-together after the 2017 Pictures of the Year judging is done. It’s your chance to meet the judges: John McDonnell\, Mary Calvert\, and Cathaleen Curtiss.  \nWe’re gathering at The Independent at 75 Union Square in Somerville\, MA at 7pm on Thursday\, Feb. 16. Attendance is free\, but you’ll have to pay for your own food and drinks. This event was a blast last year. Hope to see you there!
URL:https://www.bppa.net/event/meet-the-judges/
LOCATION:The Independent\, 75 Union Square\, Somerville\, MA\, 02143\, United States
CATEGORIES:Parties and Gatherings
END:VEVENT
BEGIN:VEVENT
DTSTART;TZID=America/New_York:20171213T183000
DTEND;TZID=America/New_York:20171213T233000
DTSTAMP:20260420T215743
CREATED:20171201T152724Z
LAST-MODIFIED:20171205T214730Z
UID:4208-1513189800-1513207800@www.bppa.net
SUMMARY:BPPA Holiday Party (Buy tickets online or at the door)
DESCRIPTION:Join other members of the Boston Press Photographers Association for our annual holiday party. There will be food\, a cash bar\, a raffle\, and plenty of conversation.  \nTickets are $20 online or $22 at the door. Use the “Add to Cart” button below to purchase tickets with a credit card or paypal account. When you click through the button\, select the quantity of tickets you would like to purchase and then follow the rest of the steps to complete the purchase.  \n\n\n\n\n\n\nSee you there!\n \n \n \n  \n\n \n \n 
URL:https://www.bppa.net/event/bppa-holiday-party-dec13-2017/
LOCATION:JJ Foley’s Cafe\, 117 E Berkeley St\, Boston\, MA\, 02118\, United States
CATEGORIES:Parties and Gatherings
END:VEVENT
BEGIN:VEVENT
DTSTART;TZID=America/New_York:20170513T180000
DTEND;TZID=America/New_York:20170513T220000
DTSTAMP:20260420T215743
CREATED:20170411T140745Z
LAST-MODIFIED:20170427T114615Z
UID:4101-1494698400-1494712800@www.bppa.net
SUMMARY:BPPA Awards Dinner
DESCRIPTION:Join the BPPA as we celebrate the winners of the 2016 BPPA Pictures of the Year contest at the annual BPPA Awards Dinner. The event\, on May 13\, 2017\, will be held at the Royal Sonesta in Cambridge. The address is: 40 Edwin H Land Blvd\, Cambridge\, MA 02142.  \nThe cash bar reception will be from 6pm to 7pm\, with dinner to follow shortly afterward. \nLike last year\, there is graduated pricing for the annual awards dinner. If you’re purchasing additional tickets for your guests\, please use the same ticket price for all tickets. If you have any questions about the ticket levels or how to complete a purchase\, please email BPPA Secretary Scott Brauer at info@bppa.net. \nPrices:\nStaff photographer – $85\nFreelance photographer/individual (non-staff) photographer – $70\nStudent/Retiree – $60 \nUse the PayPal dropdown menu below to choose your ticket level. Write the names of the people who will be using the tickets in the field below the dropdown. When you click “pay now” below the form\, you will be taken to the PayPal site where you can choose the number of tickets you would like to purchase. You do not have to have a PayPal account to purchase tickets.  \n\n\n \n\n\nTicket type\n\n\nStaffer $85.00 USDFreelancer/individual non-staff $70.00 USDStudent $60.00 USD \n\n\nName(s) of attendee(s)\n\n\n\n\n\n\n\n\n\n \n \n \n \n \n 
URL:https://www.bppa.net/event/bppa-awards-dinner/
LOCATION:Royal Sonesta\, 40 Edwin H Land Blvd\, Cambridge\, MA\, 02142\, United States
CATEGORIES:Parties and Gatherings
END:VEVENT
BEGIN:VEVENT
DTSTART;TZID=America/New_York:20170216T190000
DTEND;TZID=America/New_York:20170216T220000
DTSTAMP:20260420T215743
CREATED:20170215T173033Z
LAST-MODIFIED:20170215T173033Z
UID:3630-1487271600-1487282400@www.bppa.net
SUMMARY:Meet the Judges - Dinner and Drinks
DESCRIPTION:Once again this year\, we’re having an informal get-together after the Pictures of the Year judging is done. It’s your chance to meet the judges: Allison Shelley\, Louis DeLuca\, and Eli Reed. Read their bios on the BPPA site.  \nWe’re gathering at The Independent at 75 Union Square in Somerville\, MA at 7pm on Thursday\, Feb. 16. Attendance is free\, but you’ll have to pay for your own food and drinks. This event was a blast last year. Hope to see you there!
URL:https://www.bppa.net/event/meet-the-judges-dinner-and-drinks/
LOCATION:The Independent\, 75 Union Square\, Somerville\, MA\, 02143\, United States
CATEGORIES:Parties and Gatherings
END:VEVENT
BEGIN:VEVENT
DTSTART;TZID=America/New_York:20161214T183000
DTEND;TZID=America/New_York:20161214T230000
DTSTAMP:20260420T215743
CREATED:20160926T165413Z
LAST-MODIFIED:20161206T145844Z
UID:3469-1481740200-1481756400@www.bppa.net
SUMMARY:BPPA Holiday Party (Tickets required)
DESCRIPTION:Join other members of the Boston Press Photographers Association for our annual holiday party. There will be food\, a cash bar\, a raffle\, and plenty of conversation.  \nTickets are $20 online or $22 at the door. Use the “Add to Cart” button below to purchase tickets with a credit card or paypal account. When you click through the button\, select the quantity of tickets you would like to purchase and then follow the rest of the steps to complete the purchase.  \n\nBuy tickets:\n\n\n\n\n\nSee you there!\n \n \n \n  \n\n \n \n 
URL:https://www.bppa.net/event/bppa-holiday-party/
LOCATION:JJ Foley’s Cafe\, 117 E Berkeley St\, Boston\, MA\, 02118\, United States
CATEGORIES:Parties and Gatherings
END:VEVENT
BEGIN:VEVENT
DTSTART;TZID=America/New_York:20161005T190000
DTEND;TZID=America/New_York:20161005T230000
DTSTAMP:20260420T215743
CREATED:20160927T193331Z
LAST-MODIFIED:20160927T193454Z
UID:3481-1475694000-1475708400@www.bppa.net
SUMMARY:Pitchers and Shots
DESCRIPTION:Our monthly-ish get-together for members and friends of the BPPA. Come on down\, have a drink and a bite\, and talk about photography or not.
URL:https://www.bppa.net/event/pitchers-and-shots/
LOCATION:JJ Foley’s Cafe\, 117 E Berkeley St\, Boston\, MA\, 02118\, United States
CATEGORIES:Parties and Gatherings
END:VEVENT
END:VCALENDAR